BEGIN:VCALENDAR
VERSION:2.0
PRODID:-//swoogo.com//NONSGML kigkonsult.se iCalcreator 2.41.90//
CALSCALE:GREGORIAN
UID:65313231-3966-4537-a137-663237666562
BEGIN:VEVENT
UID:3bb1ed0114cfd85df07b1a6f47792c74f77b8845@swoogo.com
DTSTAMP:20260421T103803Z
DESCRIPTION:Implications of the latest regulatory development for financial
  institutions and corporates
DTSTART:20230612T080000Z
DTEND:20230612T160000Z
LAST-MODIFIED:20260421T103803Z
LOCATION:America Square Conference Centre\, 1 America Square\, 17 Crosswall
 \, London EC3N 2LB\, United Kingdom
SEQUENCE:0
STATUS:CONFIRMED
SUMMARY:Climate and ESG Data Regulation Summit 2023
TRANSP:OPAQUE
X-ALT-DESC;FMTTYPE=text/html:<p>Implications of the latest regulatory devel
 opment for financial institutions and corporates</p>
BEGIN:VALARM
UID:33663433-3164-4538-b834-343235366332
ACTION:DISPLAY
DESCRIPTION:Implications of the latest regulatory development for financial
  institutions and corporates
TRIGGER:-PT15M
END:VALARM
END:VEVENT
END:VCALENDAR
