BEGIN:VCALENDAR
VERSION:2.0
PRODID:-//swoogo.com//NONSGML kigkonsult.se iCalcreator 2.41.90//
CALSCALE:GREGORIAN
UID:31313937-3434-4732-b235-346366383130
BEGIN:VEVENT
UID:f245c2ae53beff082e49be7d06d07c19b9b1c115@swoogo.com
DTSTAMP:20260423T133835Z
DESCRIPTION:Strategies for detecting and combatting market abuse risk
DTSTART:20240227T090000Z
DTEND:20240227T170000Z
LAST-MODIFIED:20260423T133835Z
LOCATION:Cavendish Conference Centre\, Duchess Mews\, London W1G 9DT\, Unit
 ed Kingdom
SEQUENCE:0
STATUS:CONFIRMED
SUMMARY:Market Abuse and Market Manipulation Summit
TRANSP:OPAQUE
X-ALT-DESC;FMTTYPE=text/html:<p>Strategies for detecting and combatting mar
 ket abuse risk</p>
BEGIN:VALARM
UID:38343763-3037-4538-b237-666638663532
ACTION:DISPLAY
DESCRIPTION:Strategies for detecting and combatting market abuse risk
TRIGGER:-P1W
END:VALARM
END:VEVENT
END:VCALENDAR
